BEGIN:VCALENDAR
VERSION:2.0
PRODID:-//Hockinson Apostolic Lutheran Church - ECPv6.15.17.1//NONSGML v1.0//EN
CALSCALE:GREGORIAN
METHOD:PUBLISH
X-WR-CALNAME:Hockinson Apostolic Lutheran Church
X-ORIGINAL-URL:https://hockinsonchurch.org
X-WR-CALDESC:Events for Hockinson Apostolic Lutheran Church
REFRESH-INTERVAL;VALUE=DURATION:PT1H
X-Robots-Tag:noindex
X-PUBLISHED-TTL:PT1H
BEGIN:VTIMEZONE
TZID:UTC
BEGIN:STANDARD
TZOFFSETFROM:+0000
TZOFFSETTO:+0000
TZNAME:UTC
DTSTART:20240101T000000
END:STANDARD
END:VTIMEZONE
BEGIN:VEVENT
DTSTART;TZID=UTC:20251206T183000
DTEND;TZID=UTC:20251206T193000
DTSTAMP:20260423T152124
CREATED:20251120T174720Z
LAST-MODIFIED:20251120T174720Z
UID:6583-1765045800-1765049400@hockinsonchurch.org
SUMMARY:Christmas Song Service
DESCRIPTION:Please join us for a Christmas Song Service on Saturday December 6th\, at 6:30 PM. There will be a volunteer coffee following the song service.
URL:https://hockinsonchurch.org/event/christmas-song-service/
ATTACH;FMTTYPE=image/jpeg:https://hockinsonchurch.org/wp-content/uploads/2019/05/IMG_20190424_202523822.jpg
END:VEVENT
BEGIN:VEVENT
DTSTART;TZID=UTC:20251214T180000
DTEND;TZID=UTC:20251214T190000
DTSTAMP:20260423T152124
CREATED:20251017T180638Z
LAST-MODIFIED:20251126T202547Z
UID:6520-1765735200-1765738800@hockinsonchurch.org
SUMMARY:Sunday School Christmas Program
DESCRIPTION:Join us for the Sunday School Christmas Program at the church. Coffee and snack to follow. \nProgram Parts Link. 
URL:https://hockinsonchurch.org/event/sunday-school-christmas-program/
ATTACH;FMTTYPE=image/jpeg:https://hockinsonchurch.org/wp-content/uploads/2015/03/cropped-shutterstock_80746927.jpg
END:VEVENT
BEGIN:VEVENT
DTSTART;VALUE=DATE:20251218
DTEND;VALUE=DATE:20251222
DTSTAMP:20260423T152124
CREATED:20251017T180502Z
LAST-MODIFIED:20251017T180502Z
UID:6518-1766016000-1766361599@hockinsonchurch.org
SUMMARY:Christmas Services
DESCRIPTION:Christmas Services with guest speaker Joel Sikkila. Services are as follows.  \nThursday December 18th\, 7 PM with Coffee Following\nFriday December 19th\, 7 PM with Coffee Following\,\nSaturday December 20th\, 8 AM Mens Breakfast\nSaturday December 20th\, 7 PM Youth Bible Study\nSunday December 21st\, 10:30 AM Worship Service with Lunch Following\nSunday December 21st\, 1:30 PM Worship Service with Coffee Following.
URL:https://hockinsonchurch.org/event/christmas-services-2/
ATTACH;FMTTYPE=image/jpeg:https://hockinsonchurch.org/wp-content/uploads/2018/08/berries-blossom-branch-235311.jpg
END:VEVENT
BEGIN:VEVENT
DTSTART;TZID=UTC:20260221T183000
DTEND;TZID=UTC:20260221T193000
DTSTAMP:20260423T152124
CREATED:20260114T175555Z
LAST-MODIFIED:20260203T055533Z
UID:6726-1771698600-1771702200@hockinsonchurch.org
SUMMARY:Song Service - Lent
DESCRIPTION:Join us for a Song Service featuring our favorite Lent Hymns! Saturday\, February 21st at 6:30 PM
URL:https://hockinsonchurch.org/event/song-service-lent/
ATTACH;FMTTYPE=image/jpeg:https://hockinsonchurch.org/wp-content/uploads/2015/03/cropped-shutterstock_80746927.jpg
END:VEVENT
BEGIN:VEVENT
DTSTART;VALUE=DATE:20260402
DTEND;VALUE=DATE:20260406
DTSTAMP:20260423T152124
CREATED:20251017T180943Z
LAST-MODIFIED:20251017T181001Z
UID:6522-1775088000-1775433599@hockinsonchurch.org
SUMMARY:Easter Services
DESCRIPTION:Please join us for Easter Special Services with guest speaker Vesa Poyhtari. Services will be as follows.  \nThursday April 2nd\, 7 PM Maundy Thursday Service with Holy Communion\, Coffee to follow.\nFriday April 3rd\, 7 PM Good Friday Service\, Coffee to follow.\nSunday April 5th\, 10:30 AM Easter Morning Worship Service\, Lunch to Follow.\nSunday April 5th\, 1:30 PM Worship Service\, Coffee to follow.
URL:https://hockinsonchurch.org/event/easter-services-2/
ATTACH;FMTTYPE=image/webp:https://hockinsonchurch.org/wp-content/uploads/2024/01/Cross.webp
END:VEVENT
BEGIN:VEVENT
DTSTART;TZID=UTC:20260726T103000
DTEND;TZID=UTC:20260726T233000
DTSTAMP:20260423T152124
CREATED:20260110T071931Z
LAST-MODIFIED:20260110T071931Z
UID:6716-1785061800-1785108600@hockinsonchurch.org
SUMMARY:Confirmation Sunday
DESCRIPTION:Confirmation is earlier than usual this year\, as the convention in South Carolina is July 30th – August 2nd. Typically\, our Confirmation Sunday would be on August 2nd.
URL:https://hockinsonchurch.org/event/confirmation-sunday/
ATTACH;FMTTYPE=image/jpeg:https://hockinsonchurch.org/wp-content/uploads/2018/08/Bible-open.jpg
END:VEVENT
END:VCALENDAR