BEGIN:VCALENDAR
VERSION:2.0
PRODID:-//Hockinson Apostolic Lutheran Church - ECPv6.15.17.1//NONSGML v1.0//EN
CALSCALE:GREGORIAN
METHOD:PUBLISH
X-WR-CALNAME:Hockinson Apostolic Lutheran Church
X-ORIGINAL-URL:https://hockinsonchurch.org
X-WR-CALDESC:Events for Hockinson Apostolic Lutheran Church
REFRESH-INTERVAL;VALUE=DURATION:PT1H
X-Robots-Tag:noindex
X-PUBLISHED-TTL:PT1H
BEGIN:VTIMEZONE
TZID:UTC
BEGIN:STANDARD
TZOFFSETFROM:+0000
TZOFFSETTO:+0000
TZNAME:UTC
DTSTART:20230101T000000
END:STANDARD
END:VTIMEZONE
BEGIN:VEVENT
DTSTART;VALUE=DATE:20240328
DTEND;VALUE=DATE:20240401
DTSTAMP:20260425T152813
CREATED:20240102T173626Z
LAST-MODIFIED:20240102T175350Z
UID:5209-1711584000-1711929599@hockinsonchurch.org
SUMMARY:Easter Services
DESCRIPTION:Join us for our Easter Services with Pastor ______. Services will be held beginning on March 28th and conclude on March 31st.
URL:https://hockinsonchurch.org/event/easter-services/
CATEGORIES:Upcoming Events
ATTACH;FMTTYPE=image/webp:https://hockinsonchurch.org/wp-content/uploads/2024/01/Cross.webp
END:VEVENT
END:VCALENDAR